BEGIN:VCALENDAR
VERSION:2.0
PRODID:-//The Guide Cheshire - ECPv6.15.20//NONSGML v1.0//EN
CALSCALE:GREGORIAN
METHOD:PUBLISH
X-ORIGINAL-URL:https://theguidecheshire.com
X-WR-CALDESC:Events for The Guide Cheshire
REFRESH-INTERVAL;VALUE=DURATION:PT1H
X-Robots-Tag:noindex
X-PUBLISHED-TTL:PT1H
BEGIN:VTIMEZONE
TZID:UTC
BEGIN:STANDARD
TZOFFSETFROM:+0000
TZOFFSETTO:+0000
TZNAME:UTC
DTSTART:20220101T000000
END:STANDARD
END:VTIMEZONE
BEGIN:VEVENT
DTSTART;VALUE=DATE:20230617
DTEND;VALUE=DATE:20230618
DTSTAMP:20260425T215955
CREATED:20230220T130725Z
LAST-MODIFIED:20230220T130725Z
UID:8046-1686960000-1687046399@theguidecheshire.com
SUMMARY:Cheshire Fashion Week 2023
DESCRIPTION:City Wide Celebration – Cheshire Fashion Week \nAs part of Chester Heritage Festival and  In celebration of this summer’s citywide celebration\, Cheshire Fashion Week returns with a visually captivating contemporary presentation featuring live models to create a powerful cinematic experience with an open-to-the-public presentation. A collection of clothing designed to interpret Chester’s fashion history will be curated by designers who will rework and echo-friendly the designs and display them on models at Chester Town Hall\, a beautiful civic and historic building. Fashion garment collections from every decade will be displayed with captivating visual presentations. Cheshire Fashion Week Arts – Fashionweekarts is curating this project. \nThe Events Schedule \n11:30 am – 3:30 pm \nThe Chester Grosvenor Museum costume department’s collection of historically curated clothing will be filtered through a powerful modernity as part of an exhibition that will run throughout the day and open to the general public. Visitors can explore the stories behind each clothing piece\, tour Chester Town Hall\, and celebrate Chester’s fashion heritage. \n\n11:30 am – 1:30 pm \n\nTalks / Education – Attend a talk and demonstration by fashion designers and artists and get tips on fashion drawings\, fabric selection\, sewing techniques\, makeup\, hairstyles during different eras\, and art photography throughout the session. We hope to include people from all backgrounds and educational levels\, including those with alopecia\, in this session. Guests of all ages are welcome\, but those under the age of 16 must be accompanied by an adult. \n\n2:30 pm – 3:30 pm \nCity Wide Celebration – Cheshire Fashion Week  \nA visually captivating contemporary presentation with live models by Cheshire Fashion Week Arts aimed at delivering a powerful cinematic feel as clothes designed to interpret history by participating designers and artists will be displayed on live models in order to create compelling visual experiences showcasing Chester’s fashion garment collections from every decade. The clothes will be displayed live in a contemporary art exhibition where images and films will be projected on a screen and models present live. This project is being curated by Cheshire Fashion Week Arts – Fashionweekarts.
URL:https://theguidecheshire.com/event/cheshire-fashion-week-2023/
LOCATION:Chester Town Hall\, 33 Northgate St\, Chester\, Cheshire\, CH1 2HQ\, United Kingdom
ATTACH;FMTTYPE=image/png:https://theguidecheshire.com/wp-content/uploads/2023/02/big-Arts-cheshire-fashion-week-2.png
ORGANIZER;CN="Cheshire Fashion Week Ltd":MAILTO:info@cheshirefashionweek.com
END:VEVENT
END:VCALENDAR