BEGIN:VCALENDAR
VERSION:2.0
PRODID:-//The Guide Cheshire - ECPv6.15.20//NONSGML v1.0//EN
CALSCALE:GREGORIAN
METHOD:PUBLISH
X-ORIGINAL-URL:https://theguidecheshire.com
X-WR-CALDESC:Events for The Guide Cheshire
REFRESH-INTERVAL;VALUE=DURATION:PT1H
X-Robots-Tag:noindex
X-PUBLISHED-TTL:PT1H
BEGIN:VTIMEZONE
TZID:UTC
BEGIN:STANDARD
TZOFFSETFROM:+0000
TZOFFSETTO:+0000
TZNAME:UTC
DTSTART:20220101T000000
END:STANDARD
END:VTIMEZONE
BEGIN:VEVENT
DTSTART;VALUE=DATE:20230617
DTEND;VALUE=DATE:20230618
DTSTAMP:20260421T052149
CREATED:20230220T130725Z
LAST-MODIFIED:20230220T130725Z
UID:8046-1686960000-1687046399@theguidecheshire.com
SUMMARY:Cheshire Fashion Week 2023
DESCRIPTION:City Wide Celebration – Cheshire Fashion Week \nAs part of Chester Heritage Festival and  In celebration of this summer’s citywide celebration\, Cheshire Fashion Week returns with a visually captivating contemporary presentation featuring live models to create a powerful cinematic experience with an open-to-the-public presentation. A collection of clothing designed to interpret Chester’s fashion history will be curated by designers who will rework and echo-friendly the designs and display them on models at Chester Town Hall\, a beautiful civic and historic building. Fashion garment collections from every decade will be displayed with captivating visual presentations. Cheshire Fashion Week Arts – Fashionweekarts is curating this project. \nThe Events Schedule \n11:30 am – 3:30 pm \nThe Chester Grosvenor Museum costume department’s collection of historically curated clothing will be filtered through a powerful modernity as part of an exhibition that will run throughout the day and open to the general public. Visitors can explore the stories behind each clothing piece\, tour Chester Town Hall\, and celebrate Chester’s fashion heritage. \n\n11:30 am – 1:30 pm \n\nTalks / Education – Attend a talk and demonstration by fashion designers and artists and get tips on fashion drawings\, fabric selection\, sewing techniques\, makeup\, hairstyles during different eras\, and art photography throughout the session. We hope to include people from all backgrounds and educational levels\, including those with alopecia\, in this session. Guests of all ages are welcome\, but those under the age of 16 must be accompanied by an adult. \n\n2:30 pm – 3:30 pm \nCity Wide Celebration – Cheshire Fashion Week  \nA visually captivating contemporary presentation with live models by Cheshire Fashion Week Arts aimed at delivering a powerful cinematic feel as clothes designed to interpret history by participating designers and artists will be displayed on live models in order to create compelling visual experiences showcasing Chester’s fashion garment collections from every decade. The clothes will be displayed live in a contemporary art exhibition where images and films will be projected on a screen and models present live. This project is being curated by Cheshire Fashion Week Arts – Fashionweekarts.
URL:https://theguidecheshire.com/event/cheshire-fashion-week-2023/
LOCATION:Chester Town Hall\, 33 Northgate St\, Chester\, Cheshire\, CH1 2HQ\, United Kingdom
ATTACH;FMTTYPE=image/png:https://theguidecheshire.com/wp-content/uploads/2023/02/big-Arts-cheshire-fashion-week-2.png
ORGANIZER;CN="Cheshire Fashion Week Ltd":MAILTO:info@cheshirefashionweek.com
END:VEVENT
BEGIN:VEVENT
DTSTART;TZID=UTC:20230617T113000
DTEND;TZID=UTC:20230617T143000
DTSTAMP:20260421T052149
CREATED:20230528T100120Z
LAST-MODIFIED:20230528T103709Z
UID:8087-1687001400-1687012200@theguidecheshire.com
SUMMARY:Chester's Fashion History Free Exhibition
DESCRIPTION:We wear clothes to protect ourselves\, but they also represent our culture and identity. Therefore\, it’s no surprise that communities have used clothing for centuries to communicate status\, celebrate important events\, and show unity. \nIn celebration of Chester’s history of fashion during Chester Heritage Festival and Cheshire Fashion Week 2023\, Chester Fashion Contemporary presents Chester’s Fashion History is a free exhibit that will be open to the public for a day. Made possible by the Heritage Fund is an exhibition featuring historic clothing from our local museum\, as well as recreations of clothing by designers\, artists\, and locals to illustrate time and trends\, we will tell stories and recall memories about cultural traditions\, commemorations\, and celebrations through an exhibit of clothing from our local museum. \nWe invite you to join us in celebrating Chester‘s Fashion History with Chester Grosvenor Museum’s curated collection of historic clothing reimagined alongside\, stories of events at Browns Of Chester\, which can be viewed by visitors of ‘Chester‘s Fashion History Defining Moments’ at Chester Town Hall\, a Grade II* listed building that holds its own history and is reopening to the public after closure during the pandemic. As we draw on avant-garde installation and performance art to provide visitors with access to our county’s unique and irreplaceable history of fashion\, locally sourced echo-friendly clothing pieces created by talented designers\, locals\, and those currently housed at our local museum allow us to reflect\, learn about the history and heritage of fashion through decades and the shifting periods in it. Come and learn about Chester‘s history of fashion through particular garments and the craft that was put into them in aid of Hair Heals Organisation. \n 
URL:https://theguidecheshire.com/event/chesters-fashion-history-free-exhibition/
LOCATION:Chester Town Hall\, 33 Northgate St\, Chester\, Cheshire\, CH1 2HQ\, United Kingdom
ATTACH;FMTTYPE=image/jpeg:https://theguidecheshire.com/wp-content/uploads/2023/05/Browns-Official-banner.jpg
END:VEVENT
BEGIN:VEVENT
DTSTART;TZID=UTC:20240613T190000
DTEND;TZID=UTC:20240615T233000
DTSTAMP:20260421T052149
CREATED:20231222T130840Z
LAST-MODIFIED:20231222T130840Z
UID:8142-1718305200-1718494200@theguidecheshire.com
SUMMARY:Porsche Chester Cheshire Fashion Week
DESCRIPTION:The Cheshire fashion and beauty industry’s largest event presented by Claire Namukolo Raven and sponsored by Porsche Automobile takes place from the13-15\, June 2024. \nCheshire Fashion Week will showcase the latest trends\, fashion shows\, networking opportunities\, recognition awards\, and a combination of international and regional fashion designers\, retail brands\, creatives\, and fashion enthusiasts\, establishing Chester as Fashion’s destination. The week will feature a ‘Porsche opening night’ of the ‘Fashion Week Awards UK’ at the beautiful Abode Hotel Chester\, a reception reserved for invites only on the 13th June\, followed by the main event at Chester Cathedral on the 14th June 2024 open to the public and family-friendly\, culminating in a very ‘Porsche closing night on the 15th June 2024 at Porsche Centre Chester car showrooms at Cheshire Oaks designer outlet. \nThere are sponsorship packages and opportunities for brands\, fashion designers\, retailers\, aspiring models\, make-up artists\, and more. For more information\, click here!
URL:https://theguidecheshire.com/event/porsche-chester-cheshire-fashion-week/
LOCATION:Chester Cathedral\, St Werburgh St\, Chester\, Cheshire\, CH1 2DY\, United Kingdom
ATTACH;FMTTYPE=image/jpeg:https://theguidecheshire.com/wp-content/uploads/2023/12/cfwDSC_6479-1-scaled.jpeg
ORGANIZER;CN="Cheshire Fashion Week Ltd":MAILTO:info@cheshirefashionweek.com
END:VEVENT
BEGIN:VEVENT
DTSTART;TZID=UTC:20241102T190000
DTEND;TZID=UTC:20241102T230000
DTSTAMP:20260421T052149
CREATED:20240505T112702Z
LAST-MODIFIED:20240505T114412Z
UID:8169-1730574000-1730588400@theguidecheshire.com
SUMMARY:Cheshire Fashion Week 2024 Winter
DESCRIPTION:Porsche Chester Centre Cheshire Fashion Week’s summer 2024 ready-to-wear season is expected to be a highly attended and successful series of events\, and applications have been officially closed\, with shows taking place across Chester.A new set of fall/winter shows are being held at the magnificent Chester Cathedral on the 2nd\, November 2024\, sponsored by Porsche Centre Chester\, and applications are now open for brands\, designers\, models\, makeup artists\, and sponsors. \nIn the drop-down menu\, select the correct option you are interested in booking\, from designer or brand showcasing slots to standard or VIP tickets. \nOur designers and brand packages include press coverage\, Fashion Week recommendations\, 10 models\, and full production and business support before and after the event. Designers who use animal-harming materials cannot apply. \nFull details can be found on the website https://cheshirefashionweek.com/
URL:https://theguidecheshire.com/event/cheshire-fashion-week-2024-winter/
LOCATION:Chester Cathedral\, St Werburgh St\, Chester\, Cheshire\, CH1 2DY\, United Kingdom
ATTACH;FMTTYPE=image/jpeg:https://theguidecheshire.com/wp-content/uploads/2024/05/A7_06848-Edit-scaled.jpeg
END:VEVENT
BEGIN:VEVENT
DTSTART;TZID=UTC:20260905T190000
DTEND;TZID=UTC:20260905T220000
DTSTAMP:20260421T052149
CREATED:20260413T212014Z
LAST-MODIFIED:20260413T212015Z
UID:8213-1788634800-1788645600@theguidecheshire.com
SUMMARY:Cheshire Fashion Week 2026
DESCRIPTION:Cheshire Fashion Week tickets are also available on the Cheshire Fashion Week website. \n\n\n\nDesigner lineup to be updated soon. Please purchase more tickets on the Cheshire Fashion Week website. https://cheshirefashionweek.com/ \nCheshire Fashion Week returns\, bringing together emerging and established global designers for a three-day programme of runway shows and fashion-led experiences in the North West. By continuing to position Cheshire as a destination for fashion\, creativity\, and cultural engagement\, both domestically and globally\, the event strengthens the Destination Northern identity. This year introduces a new partnership with Porsche Centre Wilmslow\, aligning luxury automotive design with contemporary fashion in a collaboration centred on innovation and craftsmanship. There will be curated designer showcases\, industry-led experiences\, and opportunities for audiences to engage with the fashion landscape in a refined\, forward-looking environment. Cheshire Fashion Week is a destination indicator and platform in Cheshire that brings together fashion\, culture\, and regional identity. \nFor ticket purchases\, visit https://cheshirefashionweek.com/
URL:https://theguidecheshire.com/event/cheshire-fashion-week-2026/
ATTACH;FMTTYPE=image/jpeg:https://theguidecheshire.com/wp-content/uploads/2026/04/CFW25_0004_by_Andrew_Maximov.jpeg
END:VEVENT
END:VCALENDAR