BEGIN:VCALENDAR
VERSION:2.0
PRODID:-//The Guide Cheshire - ECPv6.15.20//NONSGML v1.0//EN
CALSCALE:GREGORIAN
METHOD:PUBLISH
X-WR-CALNAME:The Guide Cheshire
X-ORIGINAL-URL:https://theguidecheshire.com
X-WR-CALDESC:Events for The Guide Cheshire
REFRESH-INTERVAL;VALUE=DURATION:PT1H
X-Robots-Tag:noindex
X-PUBLISHED-TTL:PT1H
BEGIN:VTIMEZONE
TZID:UTC
BEGIN:STANDARD
TZOFFSETFROM:+0000
TZOFFSETTO:+0000
TZNAME:UTC
DTSTART:20210101T000000
END:STANDARD
END:VTIMEZONE
BEGIN:VEVENT
DTSTART;TZID=UTC:20221105T190000
DTEND;TZID=UTC:20221105T220000
DTSTAMP:20260421T081022
CREATED:20220604T124215Z
LAST-MODIFIED:20220916T230940Z
UID:7675-1667674800-1667685600@theguidecheshire.com
SUMMARY:Cheshire Fashion Week 2022
DESCRIPTION:Cheshire Fashion Week will take place at the beautiful Chester Cathedral on the third edition of the North’s biggest fashion week featuring the UK’s top designers\, boutiques\, and fashion industry influencers and movers once again in what promises to be an exciting night of fashion in Chester\, Cheshire. \nCheshire Fashion Week is an annual clothing and fashion trade show that brings together designers\, boutiques\, and retailers to show their collections to buyers\, media and fashion enthusiasts. A global fashion week founded in 2018\, CFW is led by CEO and regional director Claire Namukolo from Chester\, Cheshire\, who draws inspiration from the global “Big Four Fashion Weeks”\, London\, Paris\, and New York. \nDesigners\, models\, clothing retailers\, bridal boutiques\, fashion boutiques\, hair * beauty professionals\, and beauty suppliers are invited to apply. Simply apply on our website www.cheshirefashionweek.com
URL:https://theguidecheshire.com/event/cheshire-fashion-week-2022/
LOCATION:Chester Cathedral\, St Werburgh St\, Chester\, Cheshire\, CH1 2DY\, United Kingdom
ATTACH;FMTTYPE=image/jpeg:https://theguidecheshire.com/wp-content/uploads/2022/06/cfw-models-line-cathedral-scaled.jpeg
ORGANIZER;CN="Cheshire Fashion Week Ltd":MAILTO:info@cheshirefashionweek.com
END:VEVENT
END:VCALENDAR