BEGIN:VCALENDAR
VERSION:2.0
PRODID:-//The Guide Cheshire - ECPv6.15.20//NONSGML v1.0//EN
CALSCALE:GREGORIAN
METHOD:PUBLISH
X-ORIGINAL-URL:https://theguidecheshire.com
X-WR-CALDESC:Events for The Guide Cheshire
REFRESH-INTERVAL;VALUE=DURATION:PT1H
X-Robots-Tag:noindex
X-PUBLISHED-TTL:PT1H
BEGIN:VTIMEZONE
TZID:UTC
BEGIN:STANDARD
TZOFFSETFROM:+0000
TZOFFSETTO:+0000
TZNAME:UTC
DTSTART:20210101T000000
END:STANDARD
END:VTIMEZONE
BEGIN:VEVENT
DTSTART;TZID=UTC:20220621T080000
DTEND;TZID=UTC:20220622T200000
DTSTAMP:20260421T154808
CREATED:20220619T093621Z
LAST-MODIFIED:20220619T093621Z
UID:7716-1655798400-1655928000@theguidecheshire.com
SUMMARY:The Royal Cheshire County Show 2022
DESCRIPTION:In the heart of Cheshire countryside\, the Royal Cheshire County Show returns to Tabley\, near Knutsford\, on the 21st – 22nd June 2022. \nThis year marks the show’s 184th anniversary and its six-year anniversary since it was granted ‘royal’ status in 2016. The showground is situated off the A556 about one mile west of M6 junction 19 and is dog friendly. Please follow the signs when approaching. \nAll parking at the showground is FREE. It is an honour for Her Majesty The Queen that the Royal Cheshire County Show is celebrating its 70th anniversary.
URL:https://theguidecheshire.com/event/the-royal-cheshire-county-show-2022/
LOCATION:The showground is situated off the A556
ATTACH;FMTTYPE=image/jpeg:https://theguidecheshire.com/wp-content/uploads/2022/06/https-www.royalcheshireshow.orgvisitor-info.jpeg
END:VEVENT
END:VCALENDAR