BEGIN:VCALENDAR
VERSION:2.0
PRODID:-//The Guide Cheshire - ECPv6.15.20//NONSGML v1.0//EN
CALSCALE:GREGORIAN
METHOD:PUBLISH
X-ORIGINAL-URL:https://theguidecheshire.com
X-WR-CALDESC:Events for The Guide Cheshire
REFRESH-INTERVAL;VALUE=DURATION:PT1H
X-Robots-Tag:noindex
X-PUBLISHED-TTL:PT1H
BEGIN:VTIMEZONE
TZID:UTC
BEGIN:STANDARD
TZOFFSETFROM:+0000
TZOFFSETTO:+0000
TZNAME:UTC
DTSTART:20210101T000000
END:STANDARD
END:VTIMEZONE
BEGIN:VEVENT
DTSTART;TZID=UTC:20220605T080000
DTEND;TZID=UTC:20220605T170000
DTSTAMP:20260421T154816
CREATED:20220604T125316Z
LAST-MODIFIED:20220604T134342Z
UID:7683-1654416000-1654448400@theguidecheshire.com
SUMMARY:Cheshire Fest
DESCRIPTION:This year’s Cheshire Fest will feature headliners The Zutons and a host of local heroes and top artists across the bank holiday weekend. \nThe jam-packed weekend of events runs from Thursday 2nd June to Sunday 5th June – with four days of celebrations planned in honour of the Queen’s Platinum Jubilee. This year\, it all takes place in a brand-new site at The Lambing Shed\, Moseley Hall Farm in Knutsford. \nThe second release of tickets is on sale now (after the first release sold out) and can be purchased for individual days\, or the whole weekend via cheshirefest.co.uk. Tickets start at just £8.50 for children and £12.50 for adults. Tickets can be purchased from https://www.cheshirefest.co.uk/buy-tickets/
URL:https://theguidecheshire.com/event/event-2/
LOCATION:The Lambing Shed\, Moseley Hall Farm\, Chelford Road\, Knutsford\, Cheshire\, Cheshire\, WA16 8RB\, United Kingdom
ATTACH;FMTTYPE=image/jpeg:https://theguidecheshire.com/wp-content/uploads/2022/04/Cheshire-Fest.jpeg
END:VEVENT
END:VCALENDAR